BEGIN:VCALENDAR
VERSION:2.0
PRODID:-//ChamberMaster//Event Calendar 2.0//EN
METHOD:PUBLISH
X-PUBLISHED-TTL:P3D
REFRESH-INTERVAL:P3D
CALSCALE:GREGORIAN
BEGIN:VEVENT
DTSTART:20260611T163000Z
DTEND:20260611T170000Z
X-MICROSOFT-CDO-ALLDAYEVENT:FALSE
SUMMARY:Ribbon Cutting - T-Fiber by T-Mobile
DESCRIPTION:Built different. Built better.\n\n\n\n\n\nUnlike cable internet\, our 100% fiber network delivers a direct fiber-optic connection all the way to your home for consistent speeds and ultra-low latency.
X-ALT-DESC;FMTTYPE=text/html:<div data-xpr-component="text" data-xpr-component-version="1" font-size:="" segoe="">\n<div data-guid="text-66b0685944" id="text-66b0685944" x-data="text()" x-ref="text">\n<div x-ref="accordion-inner">\n<div data-xpr-component="text" data-xpr-component-version="1">\n<div data-guid="text-66b0685944" id="text-66b0685944" x-data="text()" x-ref="text">\n<div x-ref="accordion-inner">\n<p>Built different.&nbsp\;Built better.</p>\n</div>\n</div>\n</div>\n\n<div aria-hidden="true" data-xpr-component="spacer" data-xpr-component-version="1">\n<div data-guid="spacer-d038ac536a" id="spacer-d038ac536a">Unlike cable internet\, our 100% fiber network delivers a direct fiber-optic connection all the way to your home for consistent speeds and ultra-low latency.</div>\n</div>\n</div>\n</div>\n</div>\n
LOCATION:T-Fiber by T-Mobile 6530 Atlanta Highway Montgomery\, AL 36117
UID:e.3128.14496
SEQUENCE:3
DTSTAMP:20260422T024514Z
URL:https://www.montgomerychamber.com/events/details/ribbon-cutting-t-fiber-by-t-mobile-14496
END:VEVENT

END:VCALENDAR
