BEGIN:VCALENDAR
VERSION:2.0
PRODID:-//ChamberMaster//Event Calendar 2.0//EN
METHOD:PUBLISH
X-PUBLISHED-TTL:P3D
REFRESH-INTERVAL:P3D
CALSCALE:GREGORIAN
BEGIN:VEVENT
DTSTART:20260505T153000Z
DTEND:20260505T160000Z
X-MICROSOFT-CDO-ALLDAYEVENT:FALSE
SUMMARY:Ribbon Cutting - Sumo Sushi AYCE
DESCRIPTION:All You Can Eat - Japanese Restaurant\n\n\n\nWe pick ingredients carefully and use only the freshest and natural ones to prepare every dish\, and have been trying to cook them in a healthier way to provide the most nutritious food.\n\n\n\n\n\n\n\n\n\n\n\n\n\nWe pick ingredients carefully and use only the freshest and natural ones to prepare every dish\, and have been trying to cook them in a healthier way to provide the most nutritious food.
X-ALT-DESC;FMTTYPE=text/html:All You Can Eat - Japanese Restaurant<br />\n<br />\nWe pick ingredients carefully and use only the freshest and natural ones to prepare every dish\, and have been trying to cook them in a healthier way to provide the most nutritious food.<br />\n<br />\n<br />\n<br />\n<br />\n<br />\n<br />\n<span background-color:="" font-size:="" letter-spacing:="" open="" style="color: rgb(230\, 228\, 228)\; font-family: ">We pick ingredients carefully and use only the freshest and natural ones to prepare every dish\, and have been trying to cook them in a healthier way to provide the most nutritious food.</span>
LOCATION:Sumo Sushi AYCE 6534 Atlanta Highway Montgomery\, AL 36117
UID:e.3128.14506
SEQUENCE:3
DTSTAMP:20260424T063705Z
URL:https://www.montgomerychamber.com/events/details/ribbon-cutting-sumo-sushi-ayce-14506
END:VEVENT

END:VCALENDAR
