BEGIN:VCALENDAR
VERSION:2.0
PRODID:-//ChamberMaster//Event Calendar 2.0//EN
METHOD:PUBLISH
X-PUBLISHED-TTL:P3D
REFRESH-INTERVAL:P3D
CALSCALE:GREGORIAN
BEGIN:VEVENT
DTSTART:20260501T163000Z
DTEND:20260501T170000Z
X-MICROSOFT-CDO-ALLDAYEVENT:FALSE
SUMMARY:Ribbon Cutting - Marc-1 Carwash
DESCRIPTION:Don't worry when life gets a little dirty! At Marc-1 Car Wash in Montgomery\, AL\, it's easy to enjoy a clean and easy wash every day.at ny of our convenient locations.
X-ALT-DESC;FMTTYPE=text/html:Don&#39\;t worry when life gets a little dirty! At Marc-1 Car Wash in Montgomery\, AL\, it&#39\;s&nbsp\;easy to enjoy a clean and easy wash every day.<span font-size:="" nunito="" style="color: rgb(255\, 255\, 255)\; font-family: ">at ny of our convenient locations.</span>
LOCATION:Marc-1 Carwash 10547 Chantilly Parkway Montgomery\, AL 36117
UID:e.3128.14497
SEQUENCE:3
DTSTAMP:20260422T011220Z
URL:https://www.montgomerychamber.com/events/details/ribbon-cutting-marc-1-carwash-14497
END:VEVENT

END:VCALENDAR
