BEGIN:VCALENDAR
VERSION:2.0
PRODID:-//ChamberMaster//Event Calendar 2.0//EN
METHOD:PUBLISH
X-PUBLISHED-TTL:P3D
REFRESH-INTERVAL:P3D
CALSCALE:GREGORIAN
BEGIN:VEVENT
DTSTART:20260505T223000Z
DTEND:20260506T000000Z
X-MICROSOFT-CDO-ALLDAYEVENT:FALSE
SUMMARY:PLUG IN — AI TOOLS BUILT FOR THE BUSINESS OWNER
DESCRIPTION:You do not need a tech background to use AI. You do not need a software budget. What you need is someone to show you what it actually does   in real business scenarios\, with real tools\, in plain language.\n\nPlug In: AI Tools Built for the Business Owner is a one-hour\, hands-on session designed to demystify artificial intelligence and put its most useful applications directly into the hands of Montgomery's small business community.\n\nLed by Zac Lewis\, attendees will work through live demonstrations of the most practical AI tools available to small businesses today. How do I write better marketing copy? Can AI help me respond faster to customers? Can I build a social media calendar in minutes? Draft proposals? Create SOPs? Summarize a contract? The answer to all of those questions is yes   and this workshop shows you how.\n\nYou'll leave with a short list of tools you can start using immediately\, a clear sense of which tasks in your business are best suited for AI assistance\, and the confidence to actually open the app and try.\n\nSBOSS Score: This is a stamp-eligible event. Check in within the first 20 minutes\, attend the full hour\, and complete the post-event survey to earn your credit.\n\nRegister Here
X-ALT-DESC;FMTTYPE=text/html:<p>You do not need a tech background to use AI. You do not need a software budget. What you need is someone to show you what it actually does &mdash\; in real business scenarios\, with real tools\, in plain language.</p>\n\n<p>Plug In: AI Tools Built for the Business Owner is a one-hour\, hands-on session designed to demystify artificial intelligence and put its most useful applications directly into the hands of Montgomery&#39\;s small business community.</p>\n\n<p>Led by Zac Lewis\, attendees will work through live demonstrations of the most practical AI tools available to small businesses today. How do I write better marketing copy? Can AI help me respond faster to customers? Can I build a social media calendar in minutes? Draft proposals? Create SOPs? Summarize a contract? The answer to all of those questions is yes &mdash\; and this workshop shows you how.</p>\n\n<p>You&#39\;ll leave with a short list of tools you can start using immediately\, a clear sense of which tasks in your business are best suited for AI assistance\, and the confidence to actually open the app and try.</p>\n\n<p>SBOSS Score: This is a stamp-eligible event. Check in within the first 20 minutes\, attend the full hour\, and complete the post-event survey to earn your credit.</p>\n\n<div><a href="https://startupspace.app/detail-normal-events/70059/2026_04_21/12_32?b_link=event_type%3Dupcoming%26page%3D1%26search_group%3D580%26search_radius%3D50&amp\;group_id=NTgw">Register Here</a></div>\n
LOCATION:Dream Maker Studio 39 Dexter Avenue\, Suite 209 Montgomery\, AL 36104
UID:e.3128.14499
SEQUENCE:3
DTSTAMP:20260422T182623Z
URL:https://www.montgomerychamber.com/events/details/plug-in-ai-tools-built-for-the-business-owner-14499
END:VEVENT

END:VCALENDAR
