BEGIN:VCALENDAR
VERSION:2.0
PRODID:-//ChamberMaster//Event Calendar 2.0//EN
METHOD:PUBLISH
X-PUBLISHED-TTL:P3D
REFRESH-INTERVAL:P3D
CALSCALE:GREGORIAN
BEGIN:VEVENT
DTSTART:20260507T230000Z
DTEND:20260508T003000Z
X-MICROSOFT-CDO-ALLDAYEVENT:FALSE
SUMMARY:OPEN THE DOOR — LICENSING YOUR CHILDCARE BUSINESS
DESCRIPTION:There are people in Montgomery right now who are operating informal childcare arrangements who have the skill\, the space\, the love for children\, and the entrepreneurial instinct to build a real licensed childcare business. The only thing standing between where they are and where they could be is understanding the licensing process.\n\nOpen the Door: Licensing Your Childcare Business is a 90-minute working session for aspiring and early-stage childcare providers who are ready to make their business official   and for established providers who want to understand their compliance obligations more fully.\n\nThe session walks through the complete licensing pathway for both home-based daycare and childcare center operations in Alabama: DHR requirements\, the application process\, home inspection standards\, staff requirements\, physical environment standards\, certifications\, and how to maintain compliance.\n\nThis is the roadmap that too many childcare entrepreneurs have had to piece together on their own. SBOSS is putting it in one room\, in one session\, with the people who can answer your specific questions.\n\nSBOSS Score: Stamp-eligible event. Check in within the first 20 minutes (by 6:20 p.m.)\, attend the full 90 minutes\, and complete the post-event survey to earn your stamp.
X-ALT-DESC;FMTTYPE=text/html:<p>There are people in Montgomery right now who are operating informal childcare arrangements who have the skill\, the space\, the love for children\, and the entrepreneurial instinct to build a real licensed childcare business. The only thing standing between where they are and where they could be is understanding the licensing process.</p>\n\n<p>Open the Door: Licensing Your Childcare Business is a 90-minute working session for aspiring and early-stage childcare providers who are ready to make their business official &mdash\; and for established providers who want to understand their compliance obligations more fully.</p>\n\n<p>The session walks through the complete licensing pathway for both home-based daycare and childcare center operations in Alabama: DHR requirements\, the application process\, home inspection standards\, staff requirements\, physical environment standards\, certifications\, and how to maintain compliance.</p>\n\n<p>This is the roadmap that too many childcare entrepreneurs have had to piece together on their own. SBOSS is putting it in one room\, in one session\, with the people who can answer your specific questions.</p>\n\n<p>SBOSS Score: Stamp-eligible event. Check in within the first 20 minutes (by 6:20 p.m.)\, attend the full 90 minutes\, and complete the post-event survey to earn your stamp.</p>\n\n<div>&nbsp\;</div>\n
LOCATION:39 Dexter Avenue\, Suite 209 Montgomery\, AL 36104
UID:e.3128.14501
SEQUENCE:3
DTSTAMP:20260422T182639Z
URL:https://www.montgomerychamber.com/events/details/open-the-door-licensing-your-childcare-business-14501
END:VEVENT

END:VCALENDAR
