BEGIN:VCALENDAR
VERSION:2.0
PRODID:-//ChamberMaster//Event Calendar 2.0//EN
METHOD:PUBLISH
X-PUBLISHED-TTL:P3D
REFRESH-INTERVAL:P3D
CALSCALE:GREGORIAN
BEGIN:VEVENT
DTSTART:20260504T160000Z
DTEND:20260504T170000Z
X-MICROSOFT-CDO-ALLDAYEVENT:FALSE
SUMMARY:BEFORE YOU SIGN THE LEASE
DESCRIPTION:Most small business owners spend weeks   sometimes months   searching for the perfect space. They imagine their customers walking through the door\, picture where the signage will go\, and start making plans before anyone has asked a single question about zoning\, inspections\, or what it actually takes to legally open in that building. By the time they find out the space doesn't meet code\, or the zoning doesn't allow their business type\, or the Certificate of Occupancy process will take three months\, they've already committed.\n\nBefore You Sign The Lease is designed to prevent that. This workshop walks small business owners through the critical steps that should happen before a lease ever gets signed   the questions to ask\, the offices to contact\, and the process to understand so that when you find the right space\, you're ready to move forward without costly surprises.\n\nLed by City of Montgomery Inspections Chief Pat McGilberry\, the session covers three core areas:\n\n\n	ZONING   What it is\, why it matters\, and how to verify that your intended use is permitted at a given location before you invest time and money into a space. Not every business can operate in every zone   and finding out after you've signed is a problem SBOSS is helping you avoid.\n	INSPECTIONS   What a pre-lease inspection looks at\, what business owners should be looking for themselves before they sign off on a space\, and what condition a property needs to be in before it's ready for occupancy. This is the part of the process most first-time commercial tenants skip entirely.\n	CERTIFICATE OF OCCUPANCY   The step-by-step process for obtaining your CO in Montgomery: what it requires\, what triggers a new CO requirement\, how long the process typically takes\, and what happens if you try to open without one.\n\n\nWe may also touch on lease negotiation basics   understanding what terms are actually negotiable and what to ask for before you put pen to paper.\n\nIf you are actively looking for a space\, preparing to sign a lease\, or planning ahead for a future location\, this workshop is the foundation. Come with your questions. Leave with a clear picture of exactly what to do before you commit.\n\nSBOSS Score: This is your first stamp-eligible event of Small Business Month. Check in within the first 20 minutes of the posted start time\, attend the full session\, and complete the post-event survey to earn your credit.
X-ALT-DESC;FMTTYPE=text/html:<p>Most small business owners spend weeks &mdash\; sometimes months &mdash\; searching for the perfect space. They imagine their customers walking through the door\, picture where the signage will go\, and start making plans before anyone has asked a single question about zoning\, inspections\, or what it actually takes to legally open in that building. By the time they find out the space doesn&#39\;t meet code\, or the zoning doesn&#39\;t allow their business type\, or the Certificate of Occupancy process will take three months\, they&#39\;ve already committed.</p>\n\n<p>Before You Sign The Lease is designed to prevent that. This workshop walks small business owners through the critical steps that should happen before a lease ever gets signed &mdash\; the questions to ask\, the offices to contact\, and the process to understand so that when you find the right space\, you&#39\;re ready to move forward without costly surprises.</p>\n\n<p>Led by City of Montgomery Inspections Chief Pat McGilberry\, the session covers three core areas:</p>\n\n<ul>\n	<li>ZONING &mdash\; What it is\, why it matters\, and how to verify that your intended use is permitted at a given location before you invest time and money into a space. Not every business can operate in every zone &mdash\; and finding out after you&#39\;ve signed is a problem SBOSS is helping you avoid.</li>\n	<li>INSPECTIONS &mdash\; What a pre-lease inspection looks at\, what business owners should be looking for themselves before they sign off on a space\, and what condition a property needs to be in before it&#39\;s ready for occupancy. This is the part of the process most first-time commercial tenants skip entirely.</li>\n	<li>CERTIFICATE OF OCCUPANCY &mdash\; The step-by-step process for obtaining your CO in Montgomery: what it requires\, what triggers a new CO requirement\, how long the process typically takes\, and what happens if you try to open without one.</li>\n</ul>\n\n<p>We may also touch on lease negotiation basics &mdash\; understanding what terms are actually negotiable and what to ask for before you put pen to paper.</p>\n\n<p>If you are actively looking for a space\, preparing to sign a lease\, or planning ahead for a future location\, this workshop is the foundation. Come with your questions. Leave with a clear picture of exactly what to do before you commit.</p>\n\n<p>SBOSS Score: This is your first stamp-eligible event of Small Business Month. Check in within the first 20 minutes of the posted start time\, attend the full session\, and complete the post-event survey to earn your credit.</p>\n\n<div>&nbsp\;</div>\n
LOCATION:Dream Makers Studio 39 Dexter Avenue\, Suite 209 Montgomery\, AL 36104
UID:e.3128.14498
SEQUENCE:3
DTSTAMP:20260422T182628Z
URL:https://www.montgomerychamber.com/events/details/before-you-sign-the-lease-14498
END:VEVENT

END:VCALENDAR
