BEGIN:VCALENDAR
VERSION:2.0
PRODID:-//ChamberMaster//Event Calendar 2.0//EN
METHOD:PUBLISH
X-PUBLISHED-TTL:P3D
REFRESH-INTERVAL:P3D
CALSCALE:GREGORIAN
BEGIN:VEVENT
DTSTART;VALUE=DATE:20260505
DTEND;VALUE=DATE:20260507
TRANSP:TRANSPARENT
X-MICROSOFT-CDO-ALLDAYEVENT:TRUE
SUMMARY:2026 National Small Business Week Virtual Summit
DESCRIPTION:Welcome to the 2026 National Small Business Week Virtual Summit\, hosted by the U.S. Small Business Administration and cohosted by America's SBDC. We're thrilled you're here! To access the live sessions on May 5 6\, please register now to secure your spot. You'll receive login credentials via email   save these\, as you'll need them to enter the virtual platform on event days.\n\n \n\nPresentation topics include:\n\n\n	Protecting Your Business from Risk and Fraud   Presented by Visa\n	Access to Capital: Closing the Small Business Gap   Presented by Visa\n	Reclaim Your Time: Make AI Work for You   Presented by Google\n	Getting Ahead with AI: Google Coaches Share Their Favorite Tips   Presented by Google\n	Rethinking Connectivity for 2026   Presented by T-Mobile\n	Built to Stay Open: The New Standard for Business Continuity - Presented by T-Mobile\n	Start Smart\, Stay Smart: The New Rules for Starting a Business - Presented by America's SBDC\n	Video 101 for Small Business: How to Capture Professional Content Using What You Already Have   Presented by America's SBDC\n	Make Onshoring Great Again: A Blueprint for Small Business Manufacturing   Presented by SBA\n	Becoming Bankable: What Makes You a "Triple Threat" for Loans\, Deposits\, and Growth   Presented by Grasshopper Bank\n	Beyond the Storefront: Smart Strategies for Small Business Growth - Presented by Amazon\n	Hiring Secrets: Staff Up Smart & Fast   Presented by Paychex\n	Compensation & Equity Trends 2026: What Smart Leaders Must Act on Now - Presented by TriNet\n	How to Win Your Next Contract: Write stronger proposals\, stand out\, and win more bids- Presented by Verizon
X-ALT-DESC;FMTTYPE=text/html:<p>Welcome to the 2026 National Small Business Week Virtual Summit\, hosted by the U.S. Small Business Administration and cohosted by America&#39\;s SBDC. We&#39\;re thrilled you&#39\;re here! To access the live sessions on May 5&ndash\;6\, please register now to secure your spot. You&#39\;ll receive login credentials via email &mdash\; save these\, as you&#39\;ll need them to enter the virtual platform on event days.</p>\n\n<p>&nbsp\;</p>\n\n<p>Presentation topics include:</p>\n\n<ul>\n	<li>Protecting Your Business from Risk and Fraud &ndash\; Presented by Visa</li>\n	<li>Access to Capital: Closing the Small Business Gap &ndash\; Presented by Visa</li>\n	<li>Reclaim Your Time: Make AI Work for You &ndash\; Presented by Google</li>\n	<li>Getting Ahead with AI: Google Coaches Share Their Favorite Tips &ndash\; Presented by Google</li>\n	<li>Rethinking Connectivity for 2026 &ndash\; Presented by T-Mobile</li>\n	<li>Built to Stay Open: The New Standard for Business Continuity - Presented by T-Mobile</li>\n	<li>Start Smart\, Stay Smart: The New Rules for Starting a Business - Presented by America&rsquo\;s SBDC</li>\n	<li>Video 101 for Small Business: How to Capture Professional Content Using What You Already Have &ndash\; Presented by America&rsquo\;s SBDC</li>\n	<li>Make Onshoring Great Again: A Blueprint for Small Business Manufacturing &ndash\; Presented by SBA</li>\n	<li>Becoming Bankable: What Makes You a &ldquo\;Triple Threat&quot\; for Loans\, Deposits\, and Growth &ndash\; Presented by Grasshopper Bank</li>\n	<li>Beyond the Storefront: Smart Strategies for Small Business Growth - Presented by Amazon</li>\n	<li>Hiring Secrets: Staff Up Smart &amp\; Fast &ndash\; Presented by Paychex</li>\n	<li>Compensation &amp\; Equity Trends 2026: What Smart Leaders Must Act on Now - Presented by TriNet</li>\n	<li>How to Win Your Next Contract: Write stronger proposals\, stand out\, and win more bids- Presented by Verizon</li>\n</ul>\n
LOCATION:Virtual Summit
UID:e.3128.14509
SEQUENCE:3
DTSTAMP:20260426T030307Z
URL:https://www.montgomerychamber.com/events/details/2026-national-small-business-week-virtual-summit-14509
END:VEVENT

END:VCALENDAR
